BEGIN:VCALENDAR
VERSION:2.0
PRODID:-//Aeroplume - ECPv6.15.17.1//NONSGML v1.0//EN
CALSCALE:GREGORIAN
METHOD:PUBLISH
X-ORIGINAL-URL:https://aeroplume.lu
X-WR-CALDESC:Events for Aeroplume
REFRESH-INTERVAL;VALUE=DURATION:PT1H
X-Robots-Tag:noindex
X-PUBLISHED-TTL:PT1H
BEGIN:VTIMEZONE
TZID:Europe/Paris
BEGIN:DAYLIGHT
TZOFFSETFROM:+0100
TZOFFSETTO:+0200
TZNAME:CEST
DTSTART:20230326T010000
END:DAYLIGHT
BEGIN:STANDARD
TZOFFSETFROM:+0200
TZOFFSETTO:+0100
TZNAME:CET
DTSTART:20231029T010000
END:STANDARD
BEGIN:DAYLIGHT
TZOFFSETFROM:+0100
TZOFFSETTO:+0200
TZNAME:CEST
DTSTART:20240331T010000
END:DAYLIGHT
BEGIN:STANDARD
TZOFFSETFROM:+0200
TZOFFSETTO:+0100
TZNAME:CET
DTSTART:20241027T010000
END:STANDARD
BEGIN:DAYLIGHT
TZOFFSETFROM:+0100
TZOFFSETTO:+0200
TZNAME:CEST
DTSTART:20250330T010000
END:DAYLIGHT
BEGIN:STANDARD
TZOFFSETFROM:+0200
TZOFFSETTO:+0100
TZNAME:CET
DTSTART:20251026T010000
END:STANDARD
END:VTIMEZONE
BEGIN:VEVENT
DTSTART;TZID=Europe/Paris:20241025T190000
DTEND;TZID=Europe/Paris:20241025T210000
DTSTAMP:20260420T193016
CREATED:20240302T093506Z
LAST-MODIFIED:20240302T093506Z
UID:3921-1729882800-1729890000@aeroplume.lu
SUMMARY:Keelenowend / Fotoowend
DESCRIPTION:
URL:https://aeroplume.lu/event/keelenowend-fotoowend/
CATEGORIES:Aeroplume
ORGANIZER;CN="Aeroplume":MAILTO:aeroplume@pt.lu
END:VEVENT
BEGIN:VEVENT
DTSTART;TZID=Europe/Paris:20241214T190000
DTEND;TZID=Europe/Paris:20241214T210000
DTSTAMP:20260420T193016
CREATED:20240302T093343Z
LAST-MODIFIED:20240302T093343Z
UID:3919-1734202800-1734210000@aeroplume.lu
SUMMARY:Fête de Noël
DESCRIPTION:
URL:https://aeroplume.lu/event/fete-de-noel-8/
CATEGORIES:Aeroplume
ORGANIZER;CN="Aeroplume":MAILTO:aeroplume@pt.lu
END:VEVENT
END:VCALENDAR