BEGIN:VCALENDAR
VERSION:2.0
PRODID:-//Aeroplume - ECPv6.15.17.1//NONSGML v1.0//EN
CALSCALE:GREGORIAN
METHOD:PUBLISH
X-ORIGINAL-URL:https://aeroplume.lu
X-WR-CALDESC:Events for Aeroplume
REFRESH-INTERVAL;VALUE=DURATION:PT1H
X-Robots-Tag:noindex
X-PUBLISHED-TTL:PT1H
BEGIN:VTIMEZONE
TZID:Europe/Paris
BEGIN:DAYLIGHT
TZOFFSETFROM:+0100
TZOFFSETTO:+0200
TZNAME:CEST
DTSTART:20150329T010000
END:DAYLIGHT
BEGIN:STANDARD
TZOFFSETFROM:+0200
TZOFFSETTO:+0100
TZNAME:CET
DTSTART:20151025T010000
END:STANDARD
BEGIN:DAYLIGHT
TZOFFSETFROM:+0100
TZOFFSETTO:+0200
TZNAME:CEST
DTSTART:20160327T010000
END:DAYLIGHT
BEGIN:STANDARD
TZOFFSETFROM:+0200
TZOFFSETTO:+0100
TZNAME:CET
DTSTART:20161030T010000
END:STANDARD
BEGIN:DAYLIGHT
TZOFFSETFROM:+0100
TZOFFSETTO:+0200
TZNAME:CEST
DTSTART:20170326T010000
END:DAYLIGHT
BEGIN:STANDARD
TZOFFSETFROM:+0200
TZOFFSETTO:+0100
TZNAME:CET
DTSTART:20171029T010000
END:STANDARD
BEGIN:DAYLIGHT
TZOFFSETFROM:+0100
TZOFFSETTO:+0200
TZNAME:CEST
DTSTART:20180325T010000
END:DAYLIGHT
BEGIN:STANDARD
TZOFFSETFROM:+0200
TZOFFSETTO:+0100
TZNAME:CET
DTSTART:20181028T010000
END:STANDARD
BEGIN:DAYLIGHT
TZOFFSETFROM:+0100
TZOFFSETTO:+0200
TZNAME:CEST
DTSTART:20190331T010000
END:DAYLIGHT
BEGIN:STANDARD
TZOFFSETFROM:+0200
TZOFFSETTO:+0100
TZNAME:CET
DTSTART:20191027T010000
END:STANDARD
BEGIN:DAYLIGHT
TZOFFSETFROM:+0100
TZOFFSETTO:+0200
TZNAME:CEST
DTSTART:20200329T010000
END:DAYLIGHT
BEGIN:STANDARD
TZOFFSETFROM:+0200
TZOFFSETTO:+0100
TZNAME:CET
DTSTART:20201025T010000
END:STANDARD
END:VTIMEZONE
BEGIN:VEVENT
DTSTART;VALUE=DATE:20190914
DTEND;VALUE=DATE:20190915
DTSTAMP:20260420T220352
CREATED:20190110T172115Z
LAST-MODIFIED:20190705T154406Z
UID:3061-1568419200-1568505599@aeroplume.lu
SUMMARY:Championnat
DESCRIPTION:  \n 
URL:https://aeroplume.lu/event/championnat/
LOCATION:Terrain Zoufftgen\, Zoufftgen\, France
CATEGORIES:Aeroplume,FAL
ORGANIZER;CN="Aeroplume":MAILTO:aeroplume@pt.lu
END:VEVENT
BEGIN:VEVENT
DTSTART;TZID=Europe/Paris:20190330T160000
DTEND;TZID=Europe/Paris:20190330T220000
DTSTAMP:20260420T220352
CREATED:20190110T173212Z
LAST-MODIFIED:20190110T173212Z
UID:3071-1553961600-1553983200@aeroplume.lu
SUMMARY:AG FAL
DESCRIPTION:Assemblée générale Fédération Aéronautique Luxembourgeoise
URL:https://aeroplume.lu/event/ag-fal-4/
CATEGORIES:FAL
ORGANIZER;CN="FAL":MAILTO:fal@pt.lu
END:VEVENT
BEGIN:VEVENT
DTSTART;TZID=Europe/Paris:20180324T170000
DTEND;TZID=Europe/Paris:20180324T200000
DTSTAMP:20260420T220352
CREATED:20180128T154733Z
LAST-MODIFIED:20180201T211057Z
UID:2861-1521910800-1521921600@aeroplume.lu
SUMMARY:AG FAL
DESCRIPTION:Assemblée générale Fédération Aéronautique Luxembourgeoise
URL:https://aeroplume.lu/event/ag-fal-3/
CATEGORIES:FAL
ORGANIZER;CN="FAL":MAILTO:fal@pt.lu
END:VEVENT
BEGIN:VEVENT
DTSTART;TZID=Europe/Paris:20170325T170000
DTEND;TZID=Europe/Paris:20170325T210000
DTSTAMP:20260420T220352
CREATED:20170305T105846Z
LAST-MODIFIED:20170307T214833Z
UID:2448-1490461200-1490475600@aeroplume.lu
SUMMARY:AG FAL
DESCRIPTION:Assemblée générale Fédération Aéronautique Luxembourgeoise
URL:https://aeroplume.lu/event/ag-fal-2/
CATEGORIES:FAL
ORGANIZER;CN="FAL":MAILTO:fal@pt.lu
END:VEVENT
BEGIN:VEVENT
DTSTART;TZID=Europe/Paris:20160319T063000
DTEND;TZID=Europe/Paris:20160319T200000
DTSTAMP:20260420T220352
CREATED:20160321T233948Z
LAST-MODIFIED:20170307T215344Z
UID:1437-1458369000-1458417600@aeroplume.lu
SUMMARY:AG FAL
DESCRIPTION:Assemblée générale Fédération Aéronautique Luxembourgeoise
URL:https://aeroplume.lu/event/ag-fal/
CATEGORIES:FAL
ORGANIZER;CN="FAL":MAILTO:fal@pt.lu
END:VEVENT
END:VCALENDAR